BEGIN:VCALENDAR
VERSION:2.0
PRODID:-//eventon.com NONSGML v1.0//EN
CALSCALE:GREGORIAN
METHOD:PUBLISH
BEGIN:VEVENT
UID:69e6bba80a602
DTSTAMP:20260420T235000Z
DTSTART:20230816T170000Z
DTEND:20230816T200000Z
LOCATION:Sindelfingen Open Air 71063 Sindelfingen\,  Seestraße
SUMMARY:Tina Turner Tribute Band
DESCRIPTION:TINA – DIE SHOW – A Tribute to Tina Turner Musikshow zu Ehr
 en der stimmgewaltigen Queen of Rock Tina Turner. Die Show &#8222;TINA – 
 DIE SHOW&#8220; ist eine Reise durch die musikalische Karriere der legendä
 ren Sängerin &#8211; von den Anfängen in Nutbush (Tennessee) bis zum gefe
 ierten Weltstar. Im zweistündigen Konzert[..]\nhttps://temmel.at/events/ti
 na-turner-tribute-band-4/
URL:https://temmel.at/events/tina-turner-tribute-band-4/
END:VEVENT
END:VCALENDAR