BEGIN:VCALENDAR
VERSION:2.0
PRODID:-//eventon.com NONSGML v1.0//EN
CALSCALE:GREGORIAN
METHOD:PUBLISH
BEGIN:VEVENT
UID:69e5d831af49a
DTSTAMP:20260420T073929Z
DTSTART:20220905T170000Z
DTEND:20220905T200000Z
LOCATION:München (Ampere\,  Muffatwerk) Zellstraße 4\,  81667 München
SUMMARY:Paul Temmel & Friends feat. Hubert Tubbs
DESCRIPTION:Paul Temmel &#038; Friends feat. Hubert Tubbs Hubert Tubbs ist 
 ein US-amerikanischer Sänger und Singer-Songwriter des Soul\,  R&#8217;n&#
 8217;B\,  Funk und Gospel. Er war Leadsänger in der international bekannt
 en Funk Band &#8222;Tower Of Power&#8220;. Hubert Tubbs hat zudem mit Küns
 tlern wie The Rolling Stones\,  Quincy Jones\,  Santana\,  Elvin Bishop\,  
 Rod Stewart\,  The[..]\nhttps://temmel.at/events/paul-temmel-friends-feat-h
 ubert-tubbs-2/
URL:https://temmel.at/events/paul-temmel-friends-feat-hubert-tubbs-2/
END:VEVENT
END:VCALENDAR